BEGIN:VCALENDAR
VERSION:2.0
PRODID:-//Ehrbar Saal //NONSGML Events //EN
CALSCALE:GREGORIAN
X-WR-CALNAME:Ehrbar Saal
BEGIN:VEVENT
CREATED:20250809T111729Z
UID:9477
DTSTART;VALUE=DATE:20260122T200000
DTEND;VALUE=DATE:20260122T210000
DTSTAMP:20260420T123243Z
LOCATION:Ehrbar Saal
DESCRIPTION:
SUMMARY:Dorothy Khadem-Missagh
ORGANIZER:
URL;VALUE=URI:https://ehrbarsaal.at/konzerte/dorothy-khadem-missagh/
TRANSP:OPAQUE
BEGIN:VALARM
ACTION:DISPLAY
TRIGGER;VALUE=DATE-TIME:
DESCRIPTION:Reminder for Dorothy Khadem-Missagh
END:VALARM
END:VEVENT
END:VCALENDAR
