BEGIN:VCALENDAR
VERSION:2.0
PRODID:-//Ehrbar Saal //NONSGML Events //EN
CALSCALE:GREGORIAN
X-WR-CALNAME:Ehrbar Saal
BEGIN:VEVENT
CREATED:20250623T112346Z
UID:9443
DTSTART;VALUE=DATE:20251023T203000
DTEND;VALUE=DATE:20251023T213000
DTSTAMP:20260422T122347Z
LOCATION:Ehrbar Saal
DESCRIPTION:
SUMMARY:Egypt in Music
ORGANIZER:
URL;VALUE=URI:https://ehrbarsaal.at/konzerte/9443/
TRANSP:OPAQUE
BEGIN:VALARM
ACTION:DISPLAY
TRIGGER;VALUE=DATE-TIME:
DESCRIPTION:Reminder for Egypt in Music
END:VALARM
END:VEVENT
END:VCALENDAR
