BEGIN:VCALENDAR
VERSION:2.0
PRODID:-//Ehrbar Saal //NONSGML Events //EN
CALSCALE:GREGORIAN
X-WR-CALNAME:Ehrbar Saal
BEGIN:VEVENT
CREATED:20250411T120158Z
UID:9360
DTSTART;VALUE=DATE:20250921T120000
DTEND;VALUE=DATE:20250921T130000
DTSTAMP:20260419T121859Z
LOCATION:Ehrbar Saal
DESCRIPTION:
SUMMARY:<span style="hyphens: none;">Podiumsgespräch: Der Einfluss chinesischer und Wiener Musiktraditionen auf das heutige Musizieren</span>
ORGANIZER:
URL;VALUE=URI:https://ehrbarsaal.at/konzerte/der-einfluss-chinesischer-und-wiener-musiktraditionen-auf-das-heutige-musizieren/
TRANSP:OPAQUE
BEGIN:VALARM
ACTION:DISPLAY
TRIGGER;VALUE=DATE-TIME:
DESCRIPTION:Reminder for <span style="hyphens: none\;">Podiumsgespräch: Der Einfluss chinesischer und Wiener Musiktraditionen auf das heutige Musizieren</span>
END:VALARM
END:VEVENT
END:VCALENDAR
