BEGIN:VCALENDAR
VERSION:2.0
PRODID:-//Ehrbar Saal //NONSGML Events //EN
CALSCALE:GREGORIAN
X-WR-CALNAME:Ehrbar Saal
BEGIN:VEVENT
CREATED:20250605T111011Z
UID:9303
DTSTART;VALUE=DATE:20251015T200000
DTEND;VALUE=DATE:20251015T210000
DTSTAMP:20260422T231146Z
LOCATION:Ehrbar Saal
DESCRIPTION:
SUMMARY:Die Winterreise
ORGANIZER:
URL;VALUE=URI:https://ehrbarsaal.at/konzerte/die-winterreise/
TRANSP:OPAQUE
BEGIN:VALARM
ACTION:DISPLAY
TRIGGER;VALUE=DATE-TIME:
DESCRIPTION:Reminder for Die Winterreise
END:VALARM
END:VEVENT
END:VCALENDAR
