BEGIN:VCALENDAR
VERSION:2.0
PRODID:-//Ehrbar Saal //NONSGML Events //EN
CALSCALE:GREGORIAN
X-WR-CALNAME:Ehrbar Saal
BEGIN:VEVENT
CREATED:20250815T145744Z
UID:9160
DTSTART;VALUE=DATE:20251010T203000
DTEND;VALUE=DATE:20251010T213000
DTSTAMP:20260421T013904Z
LOCATION:<span style="white-space: nowrap\;">Kleiner Ehrbar Saal</span>
DESCRIPTION:
SUMMARY:Duo Delirium
ORGANIZER:Vienna Piano School
URL;VALUE=URI:https://ehrbarsaal.at/konzerte/duo-delirium-3/
TRANSP:OPAQUE
BEGIN:VALARM
ACTION:DISPLAY
TRIGGER;VALUE=DATE-TIME:
DESCRIPTION:Reminder for Duo Delirium
END:VALARM
END:VEVENT
END:VCALENDAR
