BEGIN:VCALENDAR
VERSION:2.0
PRODID:-//Ehrbar Saal //NONSGML Events //EN
CALSCALE:GREGORIAN
X-WR-CALNAME:Ehrbar Saal
BEGIN:VEVENT
CREATED:20250603T095429Z
UID:8971
DTSTART;VALUE=DATE:20250621T120000
DTEND;VALUE=DATE:20250621T130000
DTSTAMP:20260419T175437Z
LOCATION:Ehrbar Saal
DESCRIPTION:
SUMMARY:Strahlender Start in den Sommer
ORGANIZER:
URL;VALUE=URI:https://ehrbarsaal.at/konzerte/strahlender-start-in-den-sommer/
TRANSP:OPAQUE
BEGIN:VALARM
ACTION:DISPLAY
TRIGGER;VALUE=DATE-TIME:
DESCRIPTION:Reminder for Strahlender Start in den Sommer
END:VALARM
END:VEVENT
END:VCALENDAR
