BEGIN:VCALENDAR
VERSION:2.0
PRODID:-//Ehrbar Saal //NONSGML Events //EN
CALSCALE:GREGORIAN
X-WR-CALNAME:Ehrbar Saal
BEGIN:VEVENT
CREATED:20250311T090052Z
UID:8774
DTSTART;VALUE=DATE:20250801T203000
DTEND;VALUE=DATE:20250801T213000
DTSTAMP:20260422T020059Z
LOCATION:Ehrbar Saal
DESCRIPTION:
SUMMARY:Claire Chiu & Students<br/>A Piano Journey Through Chinese Masterpieces
ORGANIZER:
URL;VALUE=URI:https://ehrbarsaal.at/konzerte/claire-chiu-studentsa-piano-journey-through-chinese-masterpieces/
TRANSP:OPAQUE
BEGIN:VALARM
ACTION:DISPLAY
TRIGGER;VALUE=DATE-TIME:
DESCRIPTION:Reminder for Claire Chiu &#038\; Students<br/>A Piano Journey Through Chinese Masterpieces
END:VALARM
END:VEVENT
END:VCALENDAR
