BEGIN:VCALENDAR
VERSION:2.0
PRODID:-//Ehrbar Saal //NONSGML Events //EN
CALSCALE:GREGORIAN
X-WR-CALNAME:Ehrbar Saal
BEGIN:VEVENT
CREATED:20250306T145748Z
UID:7232
DTSTART;VALUE=DATE:20250601T190000
DTEND;VALUE=DATE:20250601T200000
DTSTAMP:20260419T173434Z
LOCATION:Ehrbar Saal
DESCRIPTION:
SUMMARY:Mille Affetti
ORGANIZER:
URL;VALUE=URI:https://ehrbarsaal.at/konzerte/mille-affetti/
TRANSP:OPAQUE
BEGIN:VALARM
ACTION:DISPLAY
TRIGGER;VALUE=DATE-TIME:
DESCRIPTION:Reminder for Mille Affetti
END:VALARM
END:VEVENT
END:VCALENDAR
