BEGIN:VCALENDAR
VERSION:2.0
PRODID:-//Ehrbar Saal //NONSGML Events //EN
CALSCALE:GREGORIAN
X-WR-CALNAME:Ehrbar Saal
BEGIN:VEVENT
CREATED:20250301T140332Z
UID:6451
DTSTART;VALUE=DATE:20250717T200000
DTEND;VALUE=DATE:20250717T210000
DTSTAMP:20260421T055448Z
LOCATION:Ehrbar Saal
DESCRIPTION:
SUMMARY:<em>Pluto</em> – Oper von Michael Polo
ORGANIZER:Michael Polo
URL;VALUE=URI:https://ehrbarsaal.at/konzerte/pluto-oper-von-michael-polo/
TRANSP:OPAQUE
BEGIN:VALARM
ACTION:DISPLAY
TRIGGER;VALUE=DATE-TIME:
DESCRIPTION:Reminder for <em>Pluto</em> – Oper von Michael Polo
END:VALARM
END:VEVENT
END:VCALENDAR
