BEGIN:VCALENDAR
VERSION:2.0
PRODID:-//Ehrbar Saal //NONSGML Events //EN
CALSCALE:GREGORIAN
X-WR-CALNAME:Ehrbar Saal
BEGIN:VEVENT
CREATED:20240626T151336Z
UID:5666
DTSTART;VALUE=DATE:20241212T200000
DTEND;VALUE=DATE:20241212T210000
DTSTAMP:20260421T150039Z
LOCATION:Kleiner Ehrbar Saal
DESCRIPTION:
SUMMARY:KLAVIERABEND
ORGANIZER:
URL;VALUE=URI:https://ehrbarsaal.at/konzerte/klavierabend/
TRANSP:OPAQUE
BEGIN:VALARM
ACTION:DISPLAY
TRIGGER;VALUE=DATE-TIME:
DESCRIPTION:Reminder for KLAVIERABEND
END:VALARM
END:VEVENT
END:VCALENDAR
