BEGIN:VCALENDAR
VERSION:2.0
PRODID:-//Ehrbar Saal //NONSGML Events //EN
CALSCALE:GREGORIAN
X-WR-CALNAME:Ehrbar Saal
BEGIN:VEVENT
CREATED:20240626T102116Z
UID:5565
DTSTART;VALUE=DATE:20241114T203000
DTEND;VALUE=DATE:20241114T213000
DTSTAMP:20260422T091203Z
LOCATION:Ehrbar Saal
DESCRIPTION:
SUMMARY:AnTASTEN I YILAN ZHAO JUNGE KLAVIERMUSIK IM EHRBAR SAAL
ORGANIZER:
URL;VALUE=URI:https://ehrbarsaal.at/konzerte/antasten-i-yilan-zhao-junge-klaviermusik-im-ehrbar-saal/
TRANSP:OPAQUE
BEGIN:VALARM
ACTION:DISPLAY
TRIGGER;VALUE=DATE-TIME:
DESCRIPTION:Reminder for AnTASTEN I YILAN ZHAO JUNGE KLAVIERMUSIK IM EHRBAR SAAL
END:VALARM
END:VEVENT
END:VCALENDAR
