BEGIN:VCALENDAR
VERSION:2.0
PRODID:-//Ehrbar Saal //NONSGML Events //EN
CALSCALE:GREGORIAN
X-WR-CALNAME:Ehrbar Saal
BEGIN:VEVENT
CREATED:20240216T115837Z
UID:4604
DTSTART;VALUE=DATE:20240419T200000
DTEND;VALUE=DATE:20240419T210000
DTSTAMP:20260420T064113Z
LOCATION:Kleiner Ehrbar Saal
DESCRIPTION:
SUMMARY:"Escenas Oníricas" I Buchpräsentation mit Konzert
ORGANIZER:
URL;VALUE=URI:https://ehrbarsaal.at/konzerte/excenas-oniricas-i-buchpraesentation-mit-konzert/
TRANSP:OPAQUE
BEGIN:VALARM
ACTION:DISPLAY
TRIGGER;VALUE=DATE-TIME:
DESCRIPTION:Reminder for "Escenas Oníricas" I Buchpräsentation mit Konzert
END:VALARM
END:VEVENT
END:VCALENDAR
