BEGIN:VCALENDAR
VERSION:2.0
PRODID:-//Ehrbar Saal //NONSGML Events //EN
CALSCALE:GREGORIAN
X-WR-CALNAME:Ehrbar Saal
BEGIN:VEVENT
CREATED:20231220T091501Z
UID:4367
DTSTART;VALUE=DATE:20240111T203000
DTEND;VALUE=DATE:20240111T213000
DTSTAMP:20260420T015040Z
LOCATION:Ehrbar Saal
DESCRIPTION:
SUMMARY:JKO ChamberConcert – Schubert
ORGANIZER:JungeKünsteOrchester
URL;VALUE=URI:https://ehrbarsaal.at/konzerte/jko-chamberconcert-schubert/
TRANSP:OPAQUE
BEGIN:VALARM
ACTION:DISPLAY
TRIGGER;VALUE=DATE-TIME:
DESCRIPTION:Reminder for JKO ChamberConcert – Schubert
END:VALARM
END:VEVENT
END:VCALENDAR
