BEGIN:VCALENDAR
VERSION:2.0
PRODID:-//Ehrbar Saal //NONSGML Events //EN
CALSCALE:GREGORIAN
X-WR-CALNAME:Ehrbar Saal
BEGIN:VEVENT
CREATED:20230821T112152Z
UID:2515
DTSTART;VALUE=DATE:
DTEND;VALUE=DATE:19700101T020000
DTSTAMP:20260421T143522Z
LOCATION:Ehrbar Saal
DESCRIPTION:
SUMMARY:SAUDADE ZWEIG
ORGANIZER:
URL;VALUE=URI:https://ehrbarsaal.at/konzerte/saudade-zweig/
TRANSP:OPAQUE
BEGIN:VALARM
ACTION:DISPLAY
TRIGGER;VALUE=DATE-TIME:
DESCRIPTION:Reminder for SAUDADE ZWEIG
END:VALARM
END:VEVENT
END:VCALENDAR
