BEGIN:VCALENDAR
VERSION:2.0
PRODID:-//Ehrbar Saal //NONSGML Events //EN
CALSCALE:GREGORIAN
X-WR-CALNAME:Ehrbar Saal
BEGIN:VEVENT
CREATED:20230814T083217Z
UID:2436
DTSTART;VALUE=DATE:
DTEND;VALUE=DATE:19700101T020000
DTSTAMP:20260421T151748Z
LOCATION:Ehrbar Saal
DESCRIPTION:
SUMMARY:SYMPOSIUM "Regietheater in der Oper – ein Irrweg?"
ORGANIZER:
URL;VALUE=URI:https://ehrbarsaal.at/konzerte/symposium-regietheater-in-der-oper-ein-irrweg-2/
TRANSP:OPAQUE
BEGIN:VALARM
ACTION:DISPLAY
TRIGGER;VALUE=DATE-TIME:
DESCRIPTION:Reminder for SYMPOSIUM "Regietheater in der Oper – ein Irrweg?"
END:VALARM
END:VEVENT
END:VCALENDAR
