BEGIN:VCALENDAR
VERSION:2.0
PRODID:-//Ehrbar Saal //NONSGML Events //EN
CALSCALE:GREGORIAN
X-WR-CALNAME:Ehrbar Saal
BEGIN:VEVENT
CREATED:20260416T133732Z
UID:13310
DTSTART;VALUE=DATE:20260514T180000
DTEND;VALUE=DATE:20260514T190000
DTSTAMP:20260420T124234Z
LOCATION:Ehrbar Saal
DESCRIPTION:
SUMMARY:Thanks Gala
ORGANIZER:
URL;VALUE=URI:https://ehrbarsaal.at/konzerte/thanks-gala/
TRANSP:OPAQUE
BEGIN:VALARM
ACTION:DISPLAY
TRIGGER;VALUE=DATE-TIME:
DESCRIPTION:Reminder for Thanks Gala
END:VALARM
END:VEVENT
END:VCALENDAR
