BEGIN:VCALENDAR
VERSION:2.0
PRODID:-//Ehrbar Saal //NONSGML Events //EN
CALSCALE:GREGORIAN
X-WR-CALNAME:Ehrbar Saal
BEGIN:VEVENT
CREATED:20251006T123528Z
UID:11131
DTSTART;VALUE=DATE:20251129T190000
DTEND;VALUE=DATE:20251129T200000
DTSTAMP:20260420T124218Z
LOCATION:<span style="white-space: nowrap\;">Kleiner Ehrbar Saal</span>
DESCRIPTION:
SUMMARY:Von Romantik bis zur Moderne
ORGANIZER:
URL;VALUE=URI:https://ehrbarsaal.at/konzerte/von-romantik-bis-zur-moderne/
TRANSP:OPAQUE
BEGIN:VALARM
ACTION:DISPLAY
TRIGGER;VALUE=DATE-TIME:
DESCRIPTION:Reminder for Von Romantik bis zur Moderne
END:VALARM
END:VEVENT
END:VCALENDAR
