BEGIN:VCALENDAR
VERSION:2.0
PRODID:-//Ehrbar Saal //NONSGML Events //EN
CALSCALE:GREGORIAN
X-WR-CALNAME:Ehrbar Saal
BEGIN:VEVENT
CREATED:20250723T111652Z
UID:10263
DTSTART;VALUE=DATE:20251213T180000
DTEND;VALUE=DATE:20251213T190000
DTSTAMP:20260422T122214Z
LOCATION:Ehrbar Saal
DESCRIPTION:
SUMMARY:Wer klopfet alle Jahre wieder im Dornwald?<br/><span style="text-transform:none;">Ein musikalisches Weihnachtsrätsel</span>
ORGANIZER:
URL;VALUE=URI:https://ehrbarsaal.at/konzerte/wmgv/
TRANSP:OPAQUE
BEGIN:VALARM
ACTION:DISPLAY
TRIGGER;VALUE=DATE-TIME:
DESCRIPTION:Reminder for Wer klopfet alle Jahre wieder im Dornwald?<br/><span style="text-transform:none\;">Ein musikalisches Weihnachtsrätsel</span>
END:VALARM
END:VEVENT
END:VCALENDAR
