BEGIN:VCALENDAR
VERSION:2.0
PRODID:-//Ehrbar Saal //NONSGML Events //EN
CALSCALE:GREGORIAN
X-WR-CALNAME:Ehrbar Saal
BEGIN:VEVENT
CREATED:20250715T133858Z
UID:9924
DTSTART;VALUE=DATE:20251031T200000
DTEND;VALUE=DATE:20251031T210000
DTSTAMP:20260423T012838Z
LOCATION:<span style="white-space: nowrap\;">Kleiner Ehrbar Saal</span>
DESCRIPTION:
SUMMARY:Rendezvous of the <span style="white-space: nowrap;">Dreams</span>
ORGANIZER:
URL;VALUE=URI:https://ehrbarsaal.at/en/konzerte/rendezvous-der-traeume/
TRANSP:OPAQUE
BEGIN:VALARM
ACTION:DISPLAY
TRIGGER;VALUE=DATE-TIME:
DESCRIPTION:Reminder for Rendezvous of the <span style="white-space: nowrap\;">Dreams</span>
END:VALARM
END:VEVENT
END:VCALENDAR