BEGIN:VCALENDAR
VERSION:2.0
PRODID:-//Ehrbar Saal //NONSGML Events //EN
CALSCALE:GREGORIAN
X-WR-CALNAME:Ehrbar Saal
BEGIN:VEVENT
CREATED:20250702T113301Z
UID:9632
DTSTART;VALUE=DATE:20251005T120000
DTEND;VALUE=DATE:20251005T130000
DTSTAMP:20260424T154007Z
LOCATION:Ehrbar Saal
DESCRIPTION:
SUMMARY:Ehrphilharmonie Wien
ORGANIZER:
URL;VALUE=URI:https://ehrbarsaal.at/en/konzerte/ehrphilharmonie-wien/
TRANSP:OPAQUE
BEGIN:VALARM
ACTION:DISPLAY
TRIGGER;VALUE=DATE-TIME:
DESCRIPTION:Reminder for Ehrphilharmonie Wien
END:VALARM
END:VEVENT
END:VCALENDAR