BEGIN:VCALENDAR
VERSION:2.0
PRODID:-//Ehrbar Saal //NONSGML Events //EN
CALSCALE:GREGORIAN
X-WR-CALNAME:Ehrbar Saal
BEGIN:VEVENT
CREATED:20240910T124413Z
UID:6149
DTSTART;VALUE=DATE:20241014T200000
DTEND;VALUE=DATE:20241014T210000
DTSTAMP:20260421T014557Z
LOCATION:Ehrbar Saal
DESCRIPTION:
SUMMARY:What Is The Word
ORGANIZER:MIKAMO Mitteleuropäisches Kammerorchester
URL;VALUE=URI:https://ehrbarsaal.at/en/konzerte/what-is-the-word/
TRANSP:OPAQUE
BEGIN:VALARM
ACTION:DISPLAY
TRIGGER;VALUE=DATE-TIME:
DESCRIPTION:Reminder for What Is The Word
END:VALARM
END:VEVENT
END:VCALENDAR