BEGIN:VCALENDAR
VERSION:2.0
PRODID:-//Ehrbar Saal //NONSGML Events //EN
CALSCALE:GREGORIAN
X-WR-CALNAME:Ehrbar Saal
BEGIN:VEVENT
CREATED:20240626T133903Z
UID:5624
DTSTART;VALUE=DATE:20241203T203000
DTEND;VALUE=DATE:20241203T213000
DTSTAMP:20260419T165414Z
LOCATION:Ehrbar Saal
DESCRIPTION:
SUMMARY:(VER)-WANDLUNG I EHRBAR SAAL IN KOOPERATION MIT DER MUK
ORGANIZER:
URL;VALUE=URI:https://ehrbarsaal.at/en/konzerte/ver-wandlung-ehrbar-saal-in-kooperation-mit-der-muk-musik-und-kunst/
TRANSP:OPAQUE
BEGIN:VALARM
ACTION:DISPLAY
TRIGGER;VALUE=DATE-TIME:
DESCRIPTION:Reminder for (VER)-WANDLUNG I EHRBAR SAAL IN KOOPERATION MIT DER MUK
END:VALARM
END:VEVENT
END:VCALENDAR