BEGIN:VCALENDAR
VERSION:2.0
PRODID:-//Ehrbar Saal //NONSGML Events //EN
CALSCALE:GREGORIAN
X-WR-CALNAME:Ehrbar Saal
BEGIN:VEVENT
CREATED:20221204T154857Z
UID:522
DTSTART;VALUE=DATE:20230317T203000
DTEND;VALUE=DATE:20230317T213000
DTSTAMP:20260421T102615Z
LOCATION:Ehrbar Saal
DESCRIPTION:<p style="text-align: center;">ESPERUS CONCERTS - DIE NEUE KONZERTREIHE IM EHRBARSAAL</p> <p style="text-align: center;">"Enter the magical world of Prokofiev's music, with the duo's authentic sound, technical brilliance and engaging insights"</p>  
SUMMARY:ESPERUS CONCERTS – DUO ABENDE
ORGANIZER:
URL;VALUE=URI:https://ehrbarsaal.at/en/konzerte/esperus-concerts-3/
TRANSP:OPAQUE
BEGIN:VALARM
ACTION:DISPLAY
TRIGGER;VALUE=DATE-TIME:
DESCRIPTION:Reminder for ESPERUS CONCERTS – DUO ABENDE
END:VALARM
END:VEVENT
END:VCALENDAR