BEGIN:VCALENDAR
VERSION:2.0
PRODID:-//Ehrbar Saal //NONSGML Events //EN
CALSCALE:GREGORIAN
X-WR-CALNAME:Ehrbar Saal
BEGIN:VEVENT
CREATED:20240606T052351Z
UID:5192
DTSTART;VALUE=DATE:20240630T180000
DTEND;VALUE=DATE:20240630T190000
DTSTAMP:20260420T173249Z
LOCATION:Ehrbar Saal
DESCRIPTION:
SUMMARY:Streichquartettabend / Janáček und Brahms
ORGANIZER:
URL;VALUE=URI:https://ehrbarsaal.at/en/konzerte/fides-quartett/
TRANSP:OPAQUE
BEGIN:VALARM
ACTION:DISPLAY
TRIGGER;VALUE=DATE-TIME:
DESCRIPTION:Reminder for Streichquartettabend / Janáček und Brahms
END:VALARM
END:VEVENT
END:VCALENDAR