BEGIN:VCALENDAR
VERSION:2.0
PRODID:-//Ehrbar Saal //NONSGML Events //EN
CALSCALE:GREGORIAN
X-WR-CALNAME:Ehrbar Saal
BEGIN:VEVENT
CREATED:20231114T140510Z
UID:3831
DTSTART;VALUE=DATE:20240614T203000
DTEND;VALUE=DATE:20240614T213000
DTSTAMP:20260421T144323Z
LOCATION:Ehrbar Saal
DESCRIPTION:
SUMMARY:Hans Zimmer
ORGANIZER:
URL;VALUE=URI:https://ehrbarsaal.at/en/konzerte/netflix-night/
TRANSP:OPAQUE
BEGIN:VALARM
ACTION:DISPLAY
TRIGGER;VALUE=DATE-TIME:
DESCRIPTION:Reminder for Hans Zimmer
END:VALARM
END:VEVENT
END:VCALENDAR