BEGIN:VCALENDAR
VERSION:2.0
PRODID:-//Ehrbar Saal //NONSGML Events //EN
CALSCALE:GREGORIAN
X-WR-CALNAME:Ehrbar Saal
BEGIN:VEVENT
CREATED:20230812T133155Z
UID:2333
DTSTART;VALUE=DATE:20231105T200000
DTEND;VALUE=DATE:20231105T210000
DTSTAMP:20260421T193800Z
LOCATION:Kleiner Ehrbar Saal
DESCRIPTION:<div>     </div>
SUMMARY:VIERTUOS
ORGANIZER:
URL;VALUE=URI:https://ehrbarsaal.at/en/konzerte/viertuos/
TRANSP:OPAQUE
BEGIN:VALARM
ACTION:DISPLAY
TRIGGER;VALUE=DATE-TIME:
DESCRIPTION:Reminder for VIERTUOS
END:VALARM
END:VEVENT
END:VCALENDAR