BEGIN:VCALENDAR
VERSION:2.0
PRODID:-//Ehrbar Saal //NONSGML Events //EN
CALSCALE:GREGORIAN
X-WR-CALNAME:Ehrbar Saal
BEGIN:VEVENT
CREATED:20251023T180829Z
UID:11441
DTSTART;VALUE=DATE:20260304T203000
DTEND;VALUE=DATE:20260304T213000
DTSTAMP:20260419T180516Z
LOCATION:Ehrbar Saal
DESCRIPTION:
SUMMARY:König David
ORGANIZER:
URL;VALUE=URI:https://ehrbarsaal.at/en/konzerte/le-roi-david/
TRANSP:OPAQUE
BEGIN:VALARM
ACTION:DISPLAY
TRIGGER;VALUE=DATE-TIME:
DESCRIPTION:Reminder for König David
END:VALARM
END:VEVENT
END:VCALENDAR