BEGIN:VCALENDAR
VERSION:2.0
PRODID:-//Ehrbar Saal //NONSGML Events //EN
CALSCALE:GREGORIAN
X-WR-CALNAME:Ehrbar Saal
BEGIN:VEVENT
CREATED:20251015T092015Z
UID:11253
DTSTART;VALUE=DATE:20260411T200000
DTEND;VALUE=DATE:20260411T210000
DTSTAMP:20260419T173255Z
LOCATION:<span style="white-space:nowrap\;">Kleiner Ehrbar Saal</span>
DESCRIPTION:
SUMMARY:Final concert
ORGANIZER:
URL;VALUE=URI:https://ehrbarsaal.at/en/konzerte/tamara-atschba-abschlusskonzert-2026/
TRANSP:OPAQUE
BEGIN:VALARM
ACTION:DISPLAY
TRIGGER;VALUE=DATE-TIME:
DESCRIPTION:Reminder for final concert
END:VALARM
END:VEVENT
END:VCALENDAR