BEGIN:VCALENDAR
VERSION:2.0
PRODID:-//Ehrbar Saal //NONSGML Events //EN
CALSCALE:GREGORIAN
X-WR-CALNAME:Ehrbar Saal
BEGIN:VEVENT
CREATED:20250722T075809Z
UID:10060
DTSTART;VALUE=DATE:20251206T120000
DTEND;VALUE=DATE:20251206T130000
DTSTAMP:20260425T114834Z
LOCATION:Ehrbar Saal
DESCRIPTION:
SUMMARY:Der Spanische Wahnsinn
ORGANIZER:
URL;VALUE=URI:https://ehrbarsaal.at/en/konzerte/der-spanische-wahnsinn/
TRANSP:OPAQUE
BEGIN:VALARM
ACTION:DISPLAY
TRIGGER;VALUE=DATE-TIME:
DESCRIPTION:Reminder for Der Spanische Wahnsinn
END:VALARM
END:VEVENT
END:VCALENDAR